BEGIN:VCALENDAR
VERSION:2.0
PRODID:-//Stichting Kleinoot - ECPv6.15.20//NONSGML v1.0//EN
CALSCALE:GREGORIAN
METHOD:PUBLISH
X-WR-CALNAME:Stichting Kleinoot
X-ORIGINAL-URL:https://www.stichtingkleinoot.nl
X-WR-CALDESC:Evenementen voor Stichting Kleinoot
REFRESH-INTERVAL;VALUE=DURATION:PT1H
X-Robots-Tag:noindex
X-PUBLISHED-TTL:PT1H
BEGIN:VTIMEZONE
TZID:Europe/Amsterdam
BEGIN:DAYLIGHT
TZOFFSETFROM:+0100
TZOFFSETTO:+0200
TZNAME:CEST
DTSTART:20190331T010000
END:DAYLIGHT
BEGIN:STANDARD
TZOFFSETFROM:+0200
TZOFFSETTO:+0100
TZNAME:CET
DTSTART:20191027T010000
END:STANDARD
BEGIN:DAYLIGHT
TZOFFSETFROM:+0100
TZOFFSETTO:+0200
TZNAME:CEST
DTSTART:20200329T010000
END:DAYLIGHT
BEGIN:STANDARD
TZOFFSETFROM:+0200
TZOFFSETTO:+0100
TZNAME:CET
DTSTART:20201025T010000
END:STANDARD
BEGIN:DAYLIGHT
TZOFFSETFROM:+0100
TZOFFSETTO:+0200
TZNAME:CEST
DTSTART:20210328T010000
END:DAYLIGHT
BEGIN:STANDARD
TZOFFSETFROM:+0200
TZOFFSETTO:+0100
TZNAME:CET
DTSTART:20211031T010000
END:STANDARD
END:VTIMEZONE
BEGIN:VEVENT
DTSTART;TZID=Europe/Amsterdam:20200305T193000
DTEND;TZID=Europe/Amsterdam:20200305T230000
DTSTAMP:20260425T004916
CREATED:20190903T192607Z
LAST-MODIFIED:20221108T214726Z
UID:10000140-1583436600-1583449200@www.stichtingkleinoot.nl
SUMMARY:Negende Poëziefestival: Daar zit muziek in....
DESCRIPTION:Dichters worden vaak met componisten vergeleken. Door de buitengewone aandacht voor rijm en klank\, ritme en metrum is poëzie immers een sterk muzikaal genre. De klank van poëzie en de klank van muziek\, zij passen bij elkaar.\nMuziek heeft geen woorden nodig\, heeft genoeg aan klanken. Muziek neemt je mee naar waar woorden niet kunnen gaan\, raakt je diep van binnen en laat je een tikje verdwaasd achter. Is dat niet precies wat goede poëzie doet? Door de klank van de woorden en het ritme van de dichtregels?\nDaarnaast is muziek in de loop der eeuwen een bron van inspiratie geweest voor dichters: soms dichtten zij over een enkel instrument\, over een aangrijpend muziekstuk of over muziek als kunstvorm.\nIn de Middeleeuwen vertelden minstrelen aan dappere ridders en mooie jonkvrouwen hun verhalen op rijm en wisselden dat af met muziek. Zo vertelden ze met poëzie en muziek verhalen over oorlogen\, en ook over liefde en voorspoed. \nTijdens het Poëziefestival zullen muziek en gedichten een bijzondere combinatie vormen. Het lezen van de gedichten zal worden afgewisseld met passende muziek. Deze muziek zal gespeeld worden door musici die verschillende aspecten van de voorgedragen poëzie zullen omlijsten met een uitvoering als solist of als klein ensemble. \n  \nOp deze avond is Boekhandel Jimmink aanwezig met een groot assortiment boeken en dichtbundels.
URL:https://www.stichtingkleinoot.nl/activiteiten/negende-poeziefestival-daar-zit-muziek-in/
LOCATION:Rijksstraatweg 129\, Duivendrecht\, 1115 AP
CATEGORIES:Literatuur
ORGANIZER;CN="Stichting Kleinoot":MAILTO:activiteiten@stichtingkleinoot.nl
END:VEVENT
END:VCALENDAR